BEGIN:VCALENDAR
VERSION:2.0
PRODID:-//Sekcja Informatyki Szkolnej PTI - ECPv6.15.20//NONSGML v1.0//EN
CALSCALE:GREGORIAN
METHOD:PUBLISH
X-ORIGINAL-URL:https://sis.pti.org.pl
X-WR-CALDESC:Wydarzenia dla Sekcja Informatyki Szkolnej PTI
REFRESH-INTERVAL;VALUE=DURATION:PT1H
X-Robots-Tag:noindex
X-PUBLISHED-TTL:PT1H
BEGIN:VTIMEZONE
TZID:Europe/Warsaw
BEGIN:DAYLIGHT
TZOFFSETFROM:+0100
TZOFFSETTO:+0200
TZNAME:CEST
DTSTART:20210328T010000
END:DAYLIGHT
BEGIN:STANDARD
TZOFFSETFROM:+0200
TZOFFSETTO:+0100
TZNAME:CET
DTSTART:20211031T010000
END:STANDARD
BEGIN:DAYLIGHT
TZOFFSETFROM:+0100
TZOFFSETTO:+0200
TZNAME:CEST
DTSTART:20220327T010000
END:DAYLIGHT
BEGIN:STANDARD
TZOFFSETFROM:+0200
TZOFFSETTO:+0100
TZNAME:CET
DTSTART:20221030T010000
END:STANDARD
BEGIN:DAYLIGHT
TZOFFSETFROM:+0100
TZOFFSETTO:+0200
TZNAME:CEST
DTSTART:20230326T010000
END:DAYLIGHT
BEGIN:STANDARD
TZOFFSETFROM:+0200
TZOFFSETTO:+0100
TZNAME:CET
DTSTART:20231029T010000
END:STANDARD
END:VTIMEZONE
BEGIN:VEVENT
DTSTART;TZID=Europe/Warsaw:20220524T190000
DTEND;TZID=Europe/Warsaw:20220524T210000
DTSTAMP:20260424T095917
CREATED:20220518T220804Z
LAST-MODIFIED:20220522T140306Z
UID:9149-1653418800-1653426000@sis.pti.org.pl
SUMMARY:Ogólnopolska Konferencja "Różne oblicza Wakeleta"
DESCRIPTION:Zapraszamy na Ogólnopolską Konferencję “Różne oblicza Wakeleta”.\nCzekają nas aż trzy wieczory pełne inspiracji\, pozytywnych emocji i niesamowitych spotkań z entuzjastami Wakeleta \nZaproszeni prelegenci podzielą się swoimi dobrymi praktykami i zachwycą pomysłami\, które sprawią\, że po zakończeniu wydarzenia tak szybko nie zaśniecie \nDołączcie do nas 24.\, 25. i 26.05 o godzinie 19:00.\nWydarzenie odbędzie się na Zoomie\, ale będzie także transmisja na YouTubie (kanał Wakelet Polska).\nUczestnicy konferencji zarejestrowani na Zoomie otrzymają zaświadczenia udziału.\nRejestracja tutaj \nLink do rejestracji (24.05) – TUTAJ\nLink do rejestracji (25.05) – TUTAJ\nLink do rejestracji (26.05) – TUTAJ\n\nProgram wydarzenia:
URL:https://sis.pti.org.pl/wydarzenia/ogolnopolska-konferencja-rozne-oblicza-wakeleta/
LOCATION:ON-LINE
CATEGORIES:konferencja,webinar
ATTACH;FMTTYPE=image/png:https://sis.pti.org.pl/wp-content/uploads/2022/05/wydarzenie_www.png
END:VEVENT
BEGIN:VEVENT
DTSTART;VALUE=DATE:20220520
DTEND;VALUE=DATE:20220522
DTSTAMP:20260424T095917
CREATED:20220518T222802Z
LAST-MODIFIED:20220518T222802Z
UID:9163-1653004800-1653177599@sis.pti.org.pl
SUMMARY:Majowe Mrozy w Warszawie & KASSK – Warszawa
DESCRIPTION:Na konferencję Majowe Mrozy w Warszawie & KASSK zapraszamy nauczycieli wszystkich przedmiotów oraz etapów edukacyjnych\, a także dyrektorów i innych pracowników instytucji oświatowych zainteresowanych  nowoczesną\, wysokiej jakości edukacją\, tych którzy pragną się rozwijać i poszukiwać nowych\, skutecznych metod kształcenia. \nUczestnikom proponujemy udział w wykładach\, spotkaniach warsztatowo – seminaryjnych\, ćwiczeniach i panelach\, przygotowanych przez profesjonalistów: firmy komputerowe\, fundacje\, instytucje\, organizacje pozarządowe\, a także nauczycieli\, liderów i koordynatorów edukacji informatycznej. Chcemy dać możliwość wymiany doświadczeń\, dzielenia się wiedzą i praktyką\, kontaktu z najnowocześniejszą technologią\, spotkań z profesjonalistami\, z ekspertami\, do których często trudno dotrzeć. \nTermin i miejsce konferencji Majowe Mrozy w Warszawie\nSpotkanie będzie miało miejsce 20 i 21 maja 2022 w Warszawie w siedzibie Ośrodka Edukacji Informatycznej i Zastosowań Komputerów przy ul. Nowogrodzkiej 73 oraz sąsiadujących z nim budynkach Polsko-Japońskiej Akademii Technik Komputerowych przy ul. Koszykowej 86. Obie siedziby łączy wspólny kampus. \nPiątek\, 20 maja 2022\n\n\n\n\n\nSesja plenarna (PJATK)\n\n\n10:00\nRozpoczęcie i powitanie gości\n\n\n\nI sesja wykładowa\n\n\n10:30\nW poszukiwaniu korzeni (sukcesów) współczesnej polskiej informatyki  \nprof. dr hab. Krzysztof Diks\, prof. dr hab. Jan Madey\, Instytut Informatyki\, Uniwersytet Warszawski\n\n\n11:15\nRobotyka i informatyka z urządzeniami w rękach uczniów w szkole przyszłości\nprof. dr hab. Maciej M. Sysło\, Warszawska Wyższa Szkoła Informatyki\n\n\n11:45\nPrzerwa na kawę\n\n\n\nII sesja wykładowa\n\n\n12:10\nTemat w opracowaniu\, czyli czy technologia edukacyjna może choć trochę pomóc w edukacji technologicznej?\nAleksander Pawlicki\, Szkoła Edukacji PAFW i UW\n\n\n12:40\nC++ czy Python? Który język programowania wybrać dla uczniów szkół podstawowych i ponadpodstawowych?\nGrażyna Koba\, Migra\n\n\n12:55\nSztuczna Inteligencja już tu jest\nAleksandra Katana\, Tomasz Hodakowski\, Intel\n\n\n13:10\nPrzepraszam\, ale po co mi to?\nJanusz S. Wierzbicki\, Nowa Era\, OEIiZK\n\n\n13:25\nCybercraft – przygoda\, która uczy!\nBarbara Michalska\, Edu Lead Microsoft\,\nEwa Kołodziejczyk\, Microsoft\n\n\n13:40\nOtwórz Akademię MikroTik w swojej szkole\nPiotr Wasyk\, Michał Filipek\, MWTC\n\n\n13:55\nWydajna sieć WIFI w szkole\, standard czy wyzwanie?\nSylwester Chojnacki\, Maciej Tyran\, Advisor\n\n\n14:10-15:30\nPrzerwa na obiad\n\n\n\nWarsztaty (OEIiZK\, PJATK)\n\n\n15:30\nSesja warsztatowa nr 1\n\n\n16:30\nPrzerwa na kawę\n\n\n17:00\nSesja warsztatowa nr 2\n\n\n\nSpotkanie integracyjne\n\n\n19:00\nUroczysta kolacja w RiverCafe Restauracja na Wiśle\n\n\n\n\nSobota\, 21 maja 2022\n\n\n\n\n\nWarsztaty (OEIiZK\, PJATK)\n\n\n09:00 – 10:00\nSesja warsztatowa nr 3\n\n\n10:15 – 11:15\nSesja warsztatowa nr 4\n\n\n11:15 – 11:45\nPrzerwa na kawę\n\n\n11:45 – 12:45\nSesja warsztatowa nr 5\n\n\n13:00 – 14:00\nSesja warsztatowa nr 6\n\n\n14:00 – 15:15\nPrzerwa na obiad\n\n\n\nSesja plenarna (PJATK)\n\n\n\nIII sesja wykładowa\n\n\n15:15\nBezpieczna edukacja cyfrowa. Gdzie leży odpowiedzialność?\nPaweł Psuty\, GoCloud Polska\, Google for Education Partner\n\n\n15:30\nMiejskie środowisko oświatowe na przykładzie Eduwarszawa.pl\nKarol Cudny\, Kierownik Zespołu Informatyzacji Oświaty\,\nMiasto Stołeczne Warszawa\, Biuro Edukacji\n\n\n15:45\nJak technologia zmienia szkołę? Meandry cyfrowej transformacji\nDariusz Stachecki\, SP3 w Nowym Tomyślu\, KASSK\n\n\n16:10 – 16:30\nLosowanie nagród i uroczyste zakończenie konferencji
URL:https://sis.pti.org.pl/wydarzenia/majowe-mrozy-w-warszawie-kassk-warszawa/
LOCATION:Ośrodek Edukacji Informatycznej i Zastosowań Komputerów\, Nowogrodzkiej 73\, Warszawa\, mazowieckie\, Poland
CATEGORIES:konferencja
ATTACH;FMTTYPE=image/png:https://sis.pti.org.pl/wp-content/uploads/2022/05/279216482_5307291155976616_6554902162066111412_n.png
END:VEVENT
BEGIN:VEVENT
DTSTART;TZID=Europe/Warsaw:20220511T093000
DTEND;TZID=Europe/Warsaw:20220511T143000
DTSTAMP:20260424T095917
CREATED:20220414T143753Z
LAST-MODIFIED:20220414T143753Z
UID:8934-1652261400-1652279400@sis.pti.org.pl
SUMMARY:Przełomowe technologie teleinformatyczne
DESCRIPTION:Metody tworzenia nowoczesnego oprogramowania\, Internet rzeczy (IoT\, Internet of Things)\, cyberbezpieczeństwo rozwiązań chmurowych oraz kryptografia kwantowa…\n– to tematy\, które wybitni naukowcy\, przedstawiciele firm i administracji państwowej omówią podczas konferencji “Przełomowe technologie teleinformatyczne”.\nKiedy? 11 maja (środa)\, w godz. 9:30-14:30\nGdzie? Centrum Nauki Kopernik\nOpłata? Brak\, wstęp wolny po rejestracji: https://sdsi.pl/konferencja/#rejestracja\nWięcej informacji? https://sdsi.pl/konferencja/\nWspółorganizatorami wydarzenia są Sektorowe Rady ds. Kompetencji
URL:https://sis.pti.org.pl/wydarzenia/przelomowe-technologie-teleinformatyczne/
LOCATION:Centrum Nauki Kopernik\, ul. Wybrzeże Kościuszkowskie 20\, Warszawa\, mazowieckie\, 00-390\, Poland
CATEGORIES:konferencja
ATTACH;FMTTYPE=image/jpeg:https://sis.pti.org.pl/wp-content/uploads/2022/04/konfapti.jpg
END:VEVENT
END:VCALENDAR